BEGIN:VCALENDAR
VERSION:2.0
PRODID:spatie/icalendar-generator
DESCRIPTION:Events from Los Altos Hills County Fire District
X-WR-CALDESC:Events from Los Altos Hills County Fire District
REFRESH-INTERVAL;VALUE=DURATION:PT1440M
X-PUBLISHED-TTL:PT1440M
BEGIN:VTIMEZONE
TZID:America/Los_Angeles
BEGIN:STANDARD
DTSTART:20251102T020000Z
TZOFFSETFROM:-0700
TZOFFSETTO:-0800
END:STANDARD
BEGIN:DAYLIGHT
DTSTART:20260308T020000Z
TZOFFSETFROM:-0800
TZOFFSETTO:-0700
END:DAYLIGHT
END:VTIMEZONE
BEGIN:VTIMEZONE
TZID:UTC
BEGIN:STANDARD
DTSTART:20250724T104812Z
TZOFFSETFROM:+0000
TZOFFSETTO:+0000
END:STANDARD
END:VTIMEZONE
BEGIN:VEVENT
UID:819-630
DTSTAMP:20260420T104812Z
SUMMARY:CERT Kickoff Meeting
LOCATION:Los Altos Hills Town Hall 26379 Fremont Road  Los Altos Hills CA 9
 4022
ORGANIZER;CN=Anya Nazarova:MAILTO:anazarova@lahcfd.org
DTSTART;TZID=America/Los_Angeles:20260429T183000
DTEND;TZID=America/Los_Angeles:20260429T210000
X-ALT-DESC;FMTTYPE=TEXT/HTML:Join us for the CERT Kickoff meeting on April 
 29th at the Los Altos Hills Town Hall! Pizza will be served between 6:30 p
 m and 9:00 pm. RSVP to education@lahcfd.org.
CATEGORIES:CERT Meetings For Members,  CERT Classes,  Public Meetings &amp; Eve
 nts
URL;VALUE=URI:https://www.lahcfd.org/calendar/?mc_id=819&#038;vcal=819
METHOD:PUBLISH
END:VEVENT
END:VCALENDAR